BEGIN:VCALENDAR
VERSION:2.0
PRODID:-//॥ श्री भार्गवीनारसिंह क्षेत्रम् ॥ - ECPv6.15.20//NONSGML v1.0//EN
CALSCALE:GREGORIAN
METHOD:PUBLISH
X-ORIGINAL-URL:https://shribhargavi.in
X-WR-CALDESC:Events for ॥ श्री भार्गवीनारसिंह क्षेत्रम् ॥
REFRESH-INTERVAL;VALUE=DURATION:PT1H
X-Robots-Tag:noindex
X-PUBLISHED-TTL:PT1H
BEGIN:VTIMEZONE
TZID:Asia/Kolkata
BEGIN:STANDARD
TZOFFSETFROM:+0530
TZOFFSETTO:+0530
TZNAME:IST
DTSTART:20250101T000000
END:STANDARD
END:VTIMEZONE
BEGIN:VEVENT
DTSTART;TZID=Asia/Kolkata:20261011T080000
DTEND;TZID=Asia/Kolkata:20261020T170000
DTSTAMP:20260422T153013
CREATED:20260417T082201Z
LAST-MODIFIED:20260417T082201Z
UID:887-1791705600-1792515600@shribhargavi.in
SUMMARY:आश्विन शरन्नवरात्रा महोत्सव | ಆಶ್ವೀನ ಶರನ್ನವರಾತ್ರಾ ಮಹೋತ್ಸವ | āśvīna Śarannavrātrā mahotsava | | Parābhava Samvat Śaka 1949 [2026]
DESCRIPTION:Nine days commencing from the śukla pratipada of āśvina māsa is celebrated as śarannavarātrī with special pūjā during both morning and evening ārādhana-s. \nಆಶ್ವೀನ ಶುಕ್ಲ ಪ್ರತಿಪದಾ ದಿನದನ್ದು ಮೊದಲ್ಗೊಣ್ಡು ಒಂಭತ್ತು ದಿನಗಳ ಪರ್ಯನ್ತ ವಿಶೇಷ ಪೂಜಾಕೈಙ್ಕರ್ಯಾದಿಗಳು ನೆರವೇರಿಸಲಾಗುವುದು
URL:https://shribhargavi.in/parva/%e0%a4%86%e0%a4%b6%e0%a5%8d%e0%a4%b5%e0%a4%bf%e0%a4%a8-%e0%a4%b6%e0%a4%b0%e0%a4%a8%e0%a5%8d%e0%a4%a8%e0%a4%b5%e0%a4%b0%e0%a4%be%e0%a4%a4%e0%a5%8d%e0%a4%b0%e0%a4%be-%e0%a4%ae%e0%a4%b9%e0%a5%8b%e0%a4%a4/
LOCATION:Śrī Bhārgavī Narasimha Kṣetra\, Shree Bhargavi Narasimha Kshetra\, Kunjal\, Udupi\, Karnataka\, 576213\, India
CATEGORIES:Mahotsava,Parābhava Samvat 1949 Śaka (2026-2027 CE)
ATTACH;FMTTYPE=image/jpeg:https://shribhargavi.in/wp-content/uploads/durga-bksvarma.jpg
END:VEVENT
BEGIN:VEVENT
DTSTART;TZID=Asia/Kolkata:20261017T080000
DTEND;TZID=Asia/Kolkata:20261017T170000
DTSTAMP:20260422T153013
CREATED:20260417T082527Z
LAST-MODIFIED:20260417T082527Z
UID:891-1792224000-1792256400@shribhargavi.in
SUMMARY:तुला सङ्क्रमण | ತುಲಾ ಸಙ್ಕ್ರಮಣ | Tulā saṅkramaṇa | Parābhava Samvat Śaka 1949 [2026]
DESCRIPTION:Saṇkramaṇa parvakāla pūjā offered at mūlasannidhāna. \nಮೂಲಸನ್ನಿಧಾನದಲ್ಲಿ ಸಙ್ಕ್ರಮಣಪರ್ವಕಾಲಪೂಜೆ ನೆರವೇರಿಸಲಾಗುವುದು
URL:https://shribhargavi.in/parva/%e0%a4%a4%e0%a5%81%e0%a4%b2%e0%a4%be-%e0%a4%b8%e0%a4%99%e0%a5%8d%e0%a4%95%e0%a5%8d%e0%a4%b0%e0%a4%ae%e0%a4%a3-%e0%b2%a4%e0%b3%81%e0%b2%b2%e0%b2%be-%e0%b2%b8%e0%b2%99%e0%b3%8d%e0%b2%95%e0%b3%8d/
LOCATION:Śrī Bhārgavī Narasimha Kṣetra\, Shree Bhargavi Narasimha Kshetra\, Kunjal\, Udupi\, Karnataka\, 576213\, India
CATEGORIES:Parābhava Samvat 1949 Śaka (2026-2027 CE)
ATTACH;FMTTYPE=image/png:https://shribhargavi.in/wp-content/uploads/snkrtix512-1.png
END:VEVENT
END:VCALENDAR