BEGIN:VCALENDAR
VERSION:2.0
PRODID:-//॥ श्री भार्गवीनारसिंह क्षेत्रम् ॥ - ECPv6.15.20//NONSGML v1.0//EN
CALSCALE:GREGORIAN
METHOD:PUBLISH
X-WR-CALNAME:॥ श्री भार्गवीनारसिंह क्षेत्रम् ॥
X-ORIGINAL-URL:https://shribhargavi.in
X-WR-CALDESC:Events for ॥ श्री भार्गवीनारसिंह क्षेत्रम् ॥
REFRESH-INTERVAL;VALUE=DURATION:PT1H
X-Robots-Tag:noindex
X-PUBLISHED-TTL:PT1H
BEGIN:VTIMEZONE
TZID:Asia/Kolkata
BEGIN:STANDARD
TZOFFSETFROM:+0530
TZOFFSETTO:+0530
TZNAME:IST
DTSTART:20250101T000000
END:STANDARD
END:VTIMEZONE
BEGIN:VEVENT
DTSTART;TZID=Asia/Kolkata:20261021T080000
DTEND;TZID=Asia/Kolkata:20261021T123000
DTSTAMP:20260420T151541
CREATED:20260417T082357Z
LAST-MODIFIED:20260417T082357Z
UID:889-1792569600-1792585800@shribhargavi.in
SUMMARY:विश्वगुरु श्रीमन्मध्वाचार्य जयन्ती | विजयदशमी | ವಿಜಯದಶಮೀ | ವಿಶ್ವಗುರು ಶ್ರೀಮನ್ ಮಧ್ವಾಚಾರ್ಯ ಜಯನ್ತೀ | Vijaya Daśamī | viśvaguru śrīman madhvācārya jayantī | | Parābhava Samvat Śaka 1949 [2026]
DESCRIPTION:Āśvīna śukla daśamī is celebrated with an elaborate mahāpūjā at the mūlasannidhāna as the udyāpana of navarātrī arādhanāmahotsava. Śrīmadhvācārya jayantī is celebrated with pavamāna sūkta abhiṣeka and vāyustuti puraścaraṇa.  \nಆಶ್ವೀನ ಶುಕ್ಲ ದಶಮೀಯನ್ದು ವಿಶೇಷ ಪೂಜೆಯೊನ್ದಿದಿಗೆ ನವರಾತ್ರೀಪೂಜಾ ಉದ್ಯಾಪನೆ ಸಮ್ಪೂರ್ಣಗೊಳಿಸಿ ಶ್ರೀಮನ್ಮಧ್ವಾಚಾರ್ಯ ಜಯನ್ತೀ ಯನ್ದು ಶ್ರೀಪವಮಾನ ಸೂಕ್ತ ಹಾಗೂ ವಾಯುಸ್ತುತಿ ಪುರಶ್ಚರಣಗಳನ್ನನು ಮೂಲಸನ್ನಿಧಿಯಲ್ಲಿ ಸಮರ್ಪಿಸಲಾಗುವುದು
URL:https://shribhargavi.in/parva/%e0%a4%b5%e0%a4%bf%e0%a4%b6%e0%a5%8d%e0%a4%b5%e0%a4%97%e0%a5%81%e0%a4%b0%e0%a5%81-%e0%a4%b6%e0%a5%8d%e0%a4%b0%e0%a5%80%e0%a4%ae%e0%a4%a8%e0%a5%8d%e0%a4%ae%e0%a4%a7%e0%a5%8d%e0%a4%b5%e0%a4%be%e0%a4%9a/
LOCATION:śrī mukhyaprāṇa sannidhi\, Shree Bhargavi Narasimha Temple\, Kunjal\, Neelavar\, Udupi\, Karnataka\, 576213\, India
CATEGORIES:Parābhava Samvat 1949 Śaka (2026-2027 CE),Parva
ATTACH;FMTTYPE=image/jpeg:https://shribhargavi.in/wp-content/uploads/sriguru.jpg
END:VEVENT
END:VCALENDAR