BEGIN:VCALENDAR
VERSION:2.0
PRODID:-//॥ श्री भार्गवीनारसिंह क्षेत्रम् ॥ - ECPv6.15.20//NONSGML v1.0//EN
CALSCALE:GREGORIAN
METHOD:PUBLISH
X-WR-CALNAME:॥ श्री भार्गवीनारसिंह क्षेत्रम् ॥
X-ORIGINAL-URL:https://shribhargavi.in
X-WR-CALDESC:Events for ॥ श्री भार्गवीनारसिंह क्षेत्रम् ॥
REFRESH-INTERVAL;VALUE=DURATION:PT1H
X-Robots-Tag:noindex
X-PUBLISHED-TTL:PT1H
BEGIN:VTIMEZONE
TZID:Asia/Kolkata
BEGIN:STANDARD
TZOFFSETFROM:+0530
TZOFFSETTO:+0530
TZNAME:IST
DTSTART:20250101T000000
END:STANDARD
END:VTIMEZONE
BEGIN:VEVENT
DTSTART;TZID=Asia/Kolkata:20261217T080000
DTEND;TZID=Asia/Kolkata:20270114T120000
DTSTAMP:20260420T185414
CREATED:20260417T083822Z
LAST-MODIFIED:20260417T083822Z
UID:897-1797494400-1799928000@shribhargavi.in
SUMMARY:धनुः सङ्क्रमण धनुर्मास पूजा | ಧನುಃ ಸಙ್ಕ್ರಮಣ ಧನುರ್ಮಾಸಪೂಜಾ | Dhanuḥ saṅkramaṇa dhanurmāsa pūjā | Parābhava Samvat Śaka 1949 [2026]
DESCRIPTION:Saṇkramaṇa parvakāla pūjā offered at mūlasannidhāna. From the following day mahāpūjā is offered at 06:30 AM for the entire month. During the solar month of dhanus special ārādhana-s are performed at the mūlasannidhāna with mahānaivedya followed by mahāpūjā offered coinciding the sunrise. Japa\, pārāyaṇa\, and yajña-s are conducted during vyatīpāta\, vydhrti and other special yogas occurring during the month. \nಮೂಲಸನ್ನಿಧಾನದಲ್ಲಿ ಸಙ್ಕ್ರಮಣಪರ್ವಕಾಲಪೂಜೆ ನೆರವೇರಿಸಲಾಗುವುದು ಧನುರ್ಮಾಸ ಮಹಾಪೂಜೆಯು ಬೆಳಗ್ಗೆ 06:30 ಘಣ್ಟೆಗೆ ನೆರವೇರಿಸಲಾಗುವುದು ಧನುರ್ವ್ಯತೀಪಾತ ವೈಧೃತ್ಯಾದಿ ಯೋಗದ ದಿನಗಳನ್ದು ವಿಶೇಷ ಜಪ\, ಪಾರಾಯಣ\, ಯಜ್ಞಯಾಗಾದಿಗಳಾಯೋಜಿಸಲಾಗುವುದು
URL:https://shribhargavi.in/parva/%e0%a4%a7%e0%a4%a8%e0%a5%81%e0%a4%83-%e0%a4%b8%e0%a4%99%e0%a5%8d%e0%a4%95%e0%a5%8d%e0%a4%b0%e0%a4%ae%e0%a4%a3-%e0%a4%a7%e0%a4%a8%e0%a5%81%e0%a4%b0%e0%a5%8d%e0%a4%ae%e0%a4%be%e0%a4%b8%e0%a4%aa%e0%a5%82/
LOCATION:Śrī Bhārgavī Narasimha Kṣetra\, Shree Bhargavi Narasimha Kshetra\, Kunjal\, Udupi\, Karnataka\, 576213\, India
CATEGORIES:Parābhava Samvat 1949 Śaka (2026-2027 CE),Parva
ATTACH;FMTTYPE=image/jpeg:https://shribhargavi.in/wp-content/uploads/prbklk.jpg
END:VEVENT
END:VCALENDAR