BEGIN:VCALENDAR
VERSION:2.0
PRODID:-//॥ श्री भार्गवीनारसिंह क्षेत्रम् ॥ - ECPv6.15.20//NONSGML v1.0//EN
CALSCALE:GREGORIAN
METHOD:PUBLISH
X-ORIGINAL-URL:https://shribhargavi.in
X-WR-CALDESC:Events for ॥ श्री भार्गवीनारसिंह क्षेत्रम् ॥
REFRESH-INTERVAL;VALUE=DURATION:PT1H
X-Robots-Tag:noindex
X-PUBLISHED-TTL:PT1H
BEGIN:VTIMEZONE
TZID:Asia/Kolkata
BEGIN:STANDARD
TZOFFSETFROM:+0530
TZOFFSETTO:+0530
TZNAME:IST
DTSTART:20260101T000000
END:STANDARD
END:VTIMEZONE
BEGIN:VEVENT
DTSTART;TZID=Asia/Kolkata:20270306T080000
DTEND;TZID=Asia/Kolkata:20270306T183000
DTSTAMP:20260422T172250
CREATED:20260417T090148Z
LAST-MODIFIED:20260417T090202Z
UID:913-1804320000-1804357800@shribhargavi.in
SUMMARY:महाशिवरात्री | ಮಹಾಶಿವರಾತ್ರೀ | Mahāśivarātrī | Parābhava Samvat Śaka 1949 [2027]
DESCRIPTION:The annual mahāśivarātrī is observed on māgha kṛṣṇa pakṣa caturdaśī coinciding with the pradoṣa. Special ahbiṣeka and ārādhana-s are offered throughout the day at the paramaśiva sannidhi at the kṣetra.
URL:https://shribhargavi.in/parva/%e0%a4%ae%e0%a4%b9%e0%a4%be%e0%a4%b6%e0%a4%bf%e0%a4%b5%e0%a4%b0%e0%a4%be%e0%a4%a4%e0%a5%8d%e0%a4%b0%e0%a5%80-%e0%b2%ae%e0%b2%b9%e0%b2%be%e0%b2%b6%e0%b2%bf%e0%b2%b5%e0%b2%b0%e0%b2%be%e0%b2%a4/
LOCATION:śrī paramasadāśiva sannidhi\, Shree Bhargavi Narasimha Temple\, Kunjal\, Neelavar\, Udupi\, Karnataka\, 576213\, India
CATEGORIES:Parābhava Samvat 1949 Śaka (2026-2027 CE),Parva
ATTACH;FMTTYPE=image/webp:https://shribhargavi.in/wp-content/uploads/paramashiva-ls-scaled.webp
END:VEVENT
END:VCALENDAR